BEGIN:VCALENDAR
VERSION:2.0
PRODID:-//Nachfolgenetzwerk Rems-Murr - ECPv6.15.16//NONSGML v1.0//EN
CALSCALE:GREGORIAN
METHOD:PUBLISH
X-WR-CALNAME:Nachfolgenetzwerk Rems-Murr
X-ORIGINAL-URL:https://nachfolge-rems-murr.de
X-WR-CALDESC:Veranstaltungen für Nachfolgenetzwerk Rems-Murr
REFRESH-INTERVAL;VALUE=DURATION:PT1H
X-Robots-Tag:noindex
X-PUBLISHED-TTL:PT1H
BEGIN:VTIMEZONE
TZID:Europe/Berlin
BEGIN:DAYLIGHT
TZOFFSETFROM:+0100
TZOFFSETTO:+0200
TZNAME:CEST
DTSTART:20250330T010000
END:DAYLIGHT
BEGIN:STANDARD
TZOFFSETFROM:+0200
TZOFFSETTO:+0100
TZNAME:CET
DTSTART:20251026T010000
END:STANDARD
BEGIN:DAYLIGHT
TZOFFSETFROM:+0100
TZOFFSETTO:+0200
TZNAME:CEST
DTSTART:20260329T010000
END:DAYLIGHT
BEGIN:STANDARD
TZOFFSETFROM:+0200
TZOFFSETTO:+0100
TZNAME:CET
DTSTART:20261025T010000
END:STANDARD
BEGIN:DAYLIGHT
TZOFFSETFROM:+0100
TZOFFSETTO:+0200
TZNAME:CEST
DTSTART:20270328T010000
END:DAYLIGHT
BEGIN:STANDARD
TZOFFSETFROM:+0200
TZOFFSETTO:+0100
TZNAME:CET
DTSTART:20271031T010000
END:STANDARD
END:VTIMEZONE
BEGIN:VEVENT
DTSTART;TZID=Europe/Berlin:20260423T180000
DTEND;TZID=Europe/Berlin:20260423T180000
DTSTAMP:20260423T153740
CREATED:20230203T140717Z
LAST-MODIFIED:20251217T102629Z
UID:1129-1776967200-1776967200@nachfolge-rems-murr.de
SUMMARY:IHK Nachfolger-Club
DESCRIPTION:Sie möchten kurz- bis mittelfristig einen bestehenden Betrieb übernehmen oder planen\, durch eine aktive Beteiligung Unternehmer zu werden? Im Familienunternehmen steht der Generationswechsel an und Sie überlegen\, in die Geschäftsführung einzusteigen? \nDer IHK Nachfolger-Club richtet sich ausschließlich an Nachfolge-Interessierte\, um den Erfahrungsaustausch zu fördern. Lernen Sie Gleichgesinnte kennen\, knüpfen Sie neue Kontakte und profitieren Sie vom Know-how und den Erfahrungen anderer! \nWeitere Infos und Anmeldung HIER
URL:https://nachfolge-rems-murr.de/event/ihk-nachfolger-club/
ORGANIZER;CN="IHK Region Stuttgart":MAILTO:info@stuttgart.ihk.de
END:VEVENT
BEGIN:VEVENT
DTSTART;TZID=Europe/Berlin:20260520T170000
DTEND;TZID=Europe/Berlin:20260520T170000
DTSTAMP:20260423T153741
CREATED:20240219T080045Z
LAST-MODIFIED:20251217T104557Z
UID:885-1779296400-1779296400@nachfolge-rems-murr.de
SUMMARY:Webinar: Notfallplanung - Das Lebenswerk sichern
DESCRIPTION:Wer beim Thema „Unternehmensnachfolge“ nur an eine Übergabe aus Altersgründen denkt\, der irrt gewaltig: Mehr als jede siebte Nachfolge kommt überraschend – so überraschend\, dass sich unbedingt auch junge Unternehmer mit dem Thema auseinandersetzen sollten. Plötzliche Erkrankungen\, Unfälle bis hin zum Tod des Firmeninhabers können eine schnelle Übergabe erfordern. Wer darauf nicht vorbereitet ist\, riskiert\, das Unternehmen in existenzielle Schwierigkeiten zu bringen – und mit ihm alle Mitarbeiter. \nDie virtuelle Veranstaltung zeigt\, wie Sie als Unternehmer für den Notfall vorsorgen können: mit klaren Verfügungen\, sauberen Abgrenzungen und einer rechtzeitigen Planung. \nWährend dem Vortrag stehen die Referenten für Fragen der Teilnehmer zur Verfügung. \n\nWeitere Infos und Anmeldung HIER
URL:https://nachfolge-rems-murr.de/event/notfallkoffer-wenn-der-chef-ploetzlich-ausfaellt-2/
LOCATION:virtuell
ORGANIZER;CN="IHK Region Stuttgart":MAILTO:info@stuttgart.ihk.de
END:VEVENT
END:VCALENDAR